BEGIN:VCALENDAR
VERSION:2.0
PRODID:-//eventon.com NONSGML v1.0//EN
CALSCALE:GREGORIAN
METHOD:PUBLISH
BEGIN:VEVENT
UID:69e89b79713b3
DTSTAMP:20260422T095713Z
DTSTART:20220421T150000Z
DTEND:20220421T210000Z
LOCATION:Das Baumhaus Berlin Gerichtstr. 23 (front house\,  ground floor)
SUMMARY:Community Networking Night
DESCRIPTION:Community Networking Night is all about bringing people togethe
 r from all walks of life who share a common desire\,  to do what they can t
 o make the world a better place.  Each Thursday evening the entire Baumhau
 s becomes an &#8220;Open Greeting Zone&#8221; where it is totally normal to
  introduce yourself[..]\nhttps://www.baumhausberlin.de/events/community-net
 working-night-2/
URL:https://www.baumhausberlin.de/events/community-networking-night-2/
END:VEVENT
END:VCALENDAR