BEGIN:VCALENDAR
VERSION:2.0
PRODID:-//eventon.com NONSGML v1.0//EN
CALSCALE:GREGORIAN
METHOD:PUBLISH
BEGIN:VEVENT
UID:69e8ceae75b68
DTSTAMP:20260422T133542Z
DTSTART:20260503T170000Z
DTEND:20260504T000000Z
LOCATION:Panke e.V. Gerichstr. 23
SUMMARY:Baumhaus Soli Party!
DESCRIPTION:Baumhaus Soli Party ~ Sunday\,  May 3 ~ 19:00-Late@ Panke ClubG
 erichtstr. 23 Hof V13347 Berlin Join us at Panke for an epically groovy and
  fun celebration of Baumhaus Berlin\,  the making of an unlikely dream come
  true! We’ll gather to party\,  raise the good vibes and some much needed
  funds[..]\nhttps://www.baumhausberlin.de/events/baumhaus-soli-party/
URL:https://www.baumhausberlin.de/events/baumhaus-soli-party/
END:VEVENT
END:VCALENDAR